BEGIN:VCALENDAR
VERSION:1.0
PRODID:BAV Web Calendar
TZ:-08
BEGIN:VEVENT
SUMMARY:Adopt a College leafletting - SF (Academy of Arts)
DESCRIPTION;ENCODING=QUOTED-PRINTABLE: Please visit Bay Area Vegetarians event calendar for more information or updates on this and other vegetarian and animal rights events.=0D=0A=0D=0Ahttp://www.bayareaveg.org/events.php#938 =0D=0A=0D=0AHost: Tammy=0D=0A=0D=0ANotes:=0D=0A=0D=0AI am leafleting with information from Vegan Outreach "EVEN IF YOU LIKE MEAT" and "WHY VEGAN" pamphlets during the lunch hour at the New Montgomery & Howard campus (180 New Montgomery (at Howard, between 2nd and 3rd).  =0D=0A=0D=0AThe activity is approx. 30 minutes; it's really easy and the time goes by quickly.  We start promptly at the univ. at 11:30 as it's a limited window of time to catch folks travelling between classes.  =0D=0A=0D=0AIt's important to RSVP so we can plan accordingly for literature.=0D=0A=0D=0AThis is a monthly activity; date usually varies depending on my work schedule.  If you have date preferences for future activities, please let me know.  Please always check calendar to confirm current event time as this activity does revolve around my work schedule.=0D=0A=0D=0ANote - this is an outdoor activity, and leaflets are not waterproof, so rain cancels.=0D=0A=0D=0AClick here for more info on on Vegan Outreach's Adopt-A-College program
DTSTART:20060308T120000
DTEND:20060308T130000
END:VEVENT
END:VCALENDAR