BEGIN:VCALENDAR
VERSION:1.0
PRODID:BAV Web Calendar
TZ:-08
BEGIN:VEVENT
SUMMARY:KFC Cruelty Protest  - Palo Alto
DESCRIPTION;ENCODING=QUOTED-PRINTABLE: Please visit Bay Area Vegetarians event calendar for more information or updates on this and other vegetarian and animal rights events.=0D=0A=0D=0Ahttp://www.bayareaveg.org/events.php#905 =0D=0A=0D=0AHost: Suzanne=0D=0A=0D=0ANotes:=0D=0A=0D=0AJoin Bay Area Vegetarians as we stick up for the chickens and protest the Colonel's secret ingredient -- animal cruelty -- at KFC on the corner of El Camino and Cambridge in Palo Alto.  There is easy street parking, as well as a free lot and free garage a few blocks up from El Cam (KFC side), on the corner of Cambridge and Birch. =0D=0A=0D=0ARSVPS to my e-mail are helpful but not mandatory; just click on my name above.  Afterwards, we can all head over to BayLeaf Cafe for some *real* food.=0D=0A=0D=0ARain cancels.  New or experienced activists are welcome.  I can provide some signs courtesy of PETA, but home-made signs are welcome, too. =0D=0A=0D=0AThis is a monthly event, usually happening on the 3rd Saturday but check calendar to confirm.  If you can't make this date but want to help at future ones, please email me.  =0D=0A=0D=0APlease see BAV's schedule for other monthly KFC demos.=0D=0A=0D=0AThanks for sticking up for chickens!  For more info on this nationwide campaign to get KFC to mandate better conditions for the chickens slaughtered, click here.  If you'd like to organize a KFC demo for the chickens in your neighborhood, please let us know.
DTSTART:20050716T120000
DTEND:20050716T130000
END:VEVENT
END:VCALENDAR