BEGIN:VCALENDAR
VERSION:1.0
PRODID:BAV Web Calendar
TZ:-08
BEGIN:VEVENT
SUMMARY:Vegan Lunch - SF
DESCRIPTION;ENCODING=QUOTED-PRINTABLE: Please visit Bay Area Vegetarians event calendar for more information or updates on this and other vegetarian and animal rights events.=0D=0A=0D=0Ahttp://www.bayareaveg.org/events.php#904 =0D=0A=0D=0AHost: Thea=0D=0A=0D=0ANotes:=0D=0A=0D=0AThis is event #2 in the SF afternoon for the animals!  =0D=0A=0D=0A=0D=0A=0D=0AFollowing the KFC protest, we'll be going for a yummy vegan lunch at 983 Valencia St (at 21st).  Great opportunity to network and connect with like-minded folks. =0D=0A=0D=0AThere is also a letter writing party this afternoon (event #3).  You're welcome to join in for one of the events (KFC demo, lunch, LWP) or all three (and be a tri-advocate!)
DTSTART:20050716T131500
DTEND:20050716T143000
END:VEVENT
END:VCALENDAR