BEGIN:VCALENDAR
VERSION:1.0
PRODID:BAV Web Calendar
TZ:-08
BEGIN:VEVENT
SUMMARY:Sand-n-Surf Vegan Food Party! - Montara State Beach 
DESCRIPTION;ENCODING=QUOTED-PRINTABLE: Please visit Bay Area Vegetarians event calendar for more information or updates on this and other vegetarian and animal rights events.=0D=0A=0D=0Ahttp://www.bayareaveg.org/events.php#890 =0D=0A=0D=0AHost: Tammy & Chris=0D=0A=0D=0ANotes:=0D=0A=0D=0AJoin us for 4th Annual Sand-n-Surf 4th of July Vegan Food Party & Picnic!  We will celebrate on the Sand and near the Surf with Vegan Food! This is a beautiful beach for a vegan picnic. Please see VFP guidelines for more details on what to bring.. =0D=0A=0D=0APlease click here to RSVP via the evite, invite your friends, look for a carpool, or read more info about this event.
DTSTART:20050704T120000
DTEND:20050704T160000
END:VEVENT
END:VCALENDAR