BEGIN:VCALENDAR
VERSION:1.0
PRODID:BAV Web Calendar
TZ:-08
BEGIN:VEVENT
SUMMARY:Effective Communication for Veg*n Advocacy, Family & Friends - SF - Mission
DESCRIPTION;ENCODING=QUOTED-PRINTABLE: Please visit Bay Area Vegetarians event calendar for more information or updates on this and other vegetarian and animal rights events.=0D=0A=0D=0Ahttp://www.bayareaveg.org/events.php#776 =0D=0A=0D=0AHost: Tammy & Chris=0D=0A=0D=0ANotes:=0D=0A=0D=0AThe Compassionate Living series will examine various aspects related to vegetarianism, animal rights, and being an advocate for a more compassionate lifestyle via discussions, films, and speakers.  This event happens on the 1st Sunday of every month in SF.=0D=0A=0D=0AThis month's presentation will focus on effective communication strategies and styles useful for everyday situations at work, at home, as well as public outreach.  =0D=0A=0D=0AOur guest speaker is Nora Kramer, an experienced and passionate advocate for animals.  She volunteers with the Empathy Project and does humane education presentations at local schools and runs the BAARN list, Bay Area Animal Rights Network.  Learn how she uses her voice to speak for the animals, and how you can, too!  Click here to learn more about Nora.=0D=0A=0D=0APlease use the evite to RSVP so we can plan accordingly; walk-ins are fine.  Click here to RSVP.=0D=0A=0D=0AAdmission is free.  Donations welcome to support the Compassionate Living program.=0D=0A=0D=0ASuggestions and/or volunteers for future topics welcome.=0D=0A=0D=0AEvent location:  Cellspace, 2050 Bryant Street, SF.=0D=0A=0D=0ALight refreshments available.  We will be going out to dinner afterwards.  Click here to RSVP.=0D=0A=0D=0APlease help us get the word out - please use the evite to invite your friends!=0D=0A=0D=0AThanks!
DTSTART:20050807T150000
DTEND:20050807T170000
END:VEVENT
END:VCALENDAR