BEGIN:VCALENDAR
VERSION:1.0
PRODID:BAV Web Calendar
TZ:-08
BEGIN:VEVENT
SUMMARY:Animal Place Farm Tour - full - Vacaville
DESCRIPTION;ENCODING=QUOTED-PRINTABLE: Please visit Bay Area Vegetarians event calendar for more information or updates on this and other vegetarian and animal rights events.=0D=0A=0D=0Ahttp://www.bayareaveg.org/events.php#748 =0D=0A=0D=0AHost: Lena=0D=0A=0D=0ANotes:=0D=0A=0D=0AThanks for your interest!  Our special BAV tour to Animal Place is full.  There are other regularly scheduled tours at Animal Place if you miss this one. Visit their website at www.animalplace.org=0D=0A=0D=0A=0D=0A=0D=0AJoin Bay Area Vegetarians for a special day in the country and meet those lucky animals who call Animal Place home. You will meet some fascinating creatures that really do love visitors of the two-legged variety. Howie, the cow, will demand attention. The turkey clan will greet you enthusiastically. And, Susie the pig, really wants a belly rub. Each comes with a story that will touch your heart and deepen your appreciation for all life. End the tour with a cool drink and vegan cookies! =0D=0A=0D=0AThis is a special tour for Bay Area Vegetarians, and you are welcome & encouraged to bring guests.  Tours last approximately 1- 2 hours. For adults and children over the age of 12. =0D=0A=0D=0ARegistration is required. Fee: $10.00.  Please make check payable to "Animal Place" and remit to Lena (email her for address and space availability).  PayPal payments okay; click here to RSVP & use the PayPal link inside the evite=0D=0A=0D=0ASee what other visitors to Animal Place had to say... =0D=0A=0D=0APlease contact organizer if you have ideas/suggestions for a dinner outing after the farm tour.
DTSTART:20050416T140000
DTEND:20050416T160000
END:VEVENT
END:VCALENDAR