BEGIN:VCALENDAR
VERSION:1.0
PRODID:BAV Web Calendar
TZ:-08
BEGIN:VEVENT
SUMMARY:Palo Alto Letter Writing Party (Monthly) - BayLeaf Cafe
DESCRIPTION;ENCODING=QUOTED-PRINTABLE: Please visit Bay Area Vegetarians event calendar for more information or updates on this and other vegetarian and animal rights events.=0D=0A=0D=0Ahttp://www.bayareaveg.org/events.php#745 =0D=0A=0D=0AHost: Robin=0D=0A=0D=0ANotes:=0D=0A=0D=0AWhen I'm at home and I read about an issue I feel strongly about, I'm not likely to get out some paper and begin writing a letter because I'm usually busy checking e-mails and doing other tasks. However, when I designate an hour or 2 per month just to write letters, I get a lot written and I get to reward myself with yummy ice cream and good company. =0D=0A=0D=0A=0D=0A=0D=0AJoin Bay Area Vegetarians as we write letters to the editor, letters to state, county, and federal legislators and officials encouraging compassion to animals, etc.  We will be a voice for the voiceless with our personal, handwritten, high-impact letters.  This is a monthly event usually on the 4th Saturday.=0D=0A=0D=0A=0D=0A=0D=0ANew activists are encouraged to attend!=0D=0A=0D=0A=0D=0A=0D=0AIt's helpful if you can also bring:=0D=0A=0D=0A-pen and paper=0D=0A=0D=0A-envelopes=0D=0A=0D=0A-name of your State Assemblyperson and Senator (click here to find out)=0D=0A=0D=0A-name of your federal legislators too (click here=0D=0A=0D=0A-veg or animal rights topics to write on, or use the ones we provide.=0D=0A=0D=0AWe will be meeting at the BayLeaf Cafe, a charming and all vegan/organic cafe in downtown Palo Alto.  They now serve MaggieMudd's vegan ice cream and other yummy desserts.=0D=0A=0D=0APlease RSVP and we'll save you a seat. Hope to see you there!
DTSTART:20050423T193000
DTEND:20050423T193000
END:VEVENT
END:VCALENDAR