BEGIN:VCALENDAR
VERSION:1.0
PRODID:BAV Web Calendar
TZ:-08
BEGIN:VEVENT
SUMMARY:NEW Berkeley Letter Writing Party - Berkeley 
DESCRIPTION;ENCODING=QUOTED-PRINTABLE: Please visit Bay Area Vegetarians event calendar for more information or updates on this and other vegetarian and animal rights events.=0D=0A=0D=0Ahttp://www.bayareaveg.org/events.php#739 =0D=0A=0D=0AHost: Sara=0D=0A=0D=0ANotes:=0D=0A=0D=0A=0D=0A=0D=0AThis is a new event!  Show your support for having an East Bay Letter Writing Party by attending and bringing your friends along.  This is a monthly event happening on the 2nd Tuesday of every month.=0D=0A=0D=0A=0D=0A=0D=0AWe will be writing letters to the editor, letters to state, county, and federal legislators and officials encouraging compassion to animals, etc.  We will be a voice for the voiceless with our personal, handwritten, high-impact letters.=0D=0A=0D=0AEvent location:  Au Coquelet, 2000 University Ave. (Milvia St.), Berkeley=0D=0A=0D=0A=0D=0A=0D=0ANew activists are encouraged to attend!=0D=0A=0D=0A=0D=0A=0D=0AIt's helpful if you can also bring:=0D=0A=0D=0A-pen and paper=0D=0A=0D=0A-envelopes=0D=0A=0D=0A-name of your State Assemblyperson and Senator (click here to find out)=0D=0A=0D=0A-name of your federal legislators too (click here)=0D=0A=0D=0A-veg or animal rights topics to write on, or use the ones we provide.=0D=0A=0D=0APlease RSVP and we'll save you a seat. Hope to see you there!
DTSTART:20050412T190000
DTEND:20050412T190000
END:VEVENT
END:VCALENDAR