BEGIN:VCALENDAR
VERSION:1.0
PRODID:BAV Web Calendar
TZ:-08
BEGIN:VEVENT
SUMMARY:Vegetarian Advocacy - what can we do? - Red Vic Peace Center, Height, SF
DESCRIPTION;ENCODING=QUOTED-PRINTABLE: Please visit Bay Area Vegetarians event calendar for more information or updates on this and other vegetarian and animal rights events.=0D=0A=0D=0Ahttp://www.bayareaveg.org/events.php#736 =0D=0A=0D=0AHost: Tammy & Chris=0D=0A=0D=0ANotes:=0D=0A=0D=0AYes, this is Daylight Savings Time!  Today at 2 am, "spring" forward an hour.=0D=0A=0D=0ABay Area Vegetarians already has several advocacy events, such as monthly letter writing parties, KFC protests, tabling & outreach and other special events like screenings and speakers.  But we think there is a need for an event series that would also connect & support the advocacy community and provide a regular opportunity for us to network and organize, as well as host educational events for the general community.  Topics and speakers could range from educational to inspirational to practical how-to/hands-on sessions.=0D=0A=0D=0A=0D=0A=0D=0AWith Erik Marcus' recent presentation on MEAT MARKET,  we'd like to propose that we gather to discuss different "dismantlement" or advocacy strategies to promote vegetarianism, as outlined by Erik Marcus in MEAT MARKET. Note: This is not a review of the book, or philosophical discussion of strategies, but a practical discussion of what we can do as an organization, as individuals, as a community to promote vegetarianism and reduce animal suffering, using the strategies outlined in Meat Market as a basis and/or starting point for the discussion. =0D=0A=0D=0AEvent location:  Red Victorian Peace Center B&B, 1665 Haight Street, corner of Cole, SF.  Refreshments (including vegan, organic tamales) are available for purchase.=0D=0A=0D=0ARSVPs appreciated.  Free Admission.  Donations welcome/optional to continue the work of Bay Area Vegetarians and the Red Victorian Bed and Breakfast Peace Center, where our event is being held.=0D=0A=0D=0APublic Transit - 1665 Haight St near the #7, #71, #6, #43 Masonic buses. From East Bay Bart connects underground to N-Judah tram, exit Cole and walk 4 blocks.  =0D=0A=0D=0AFor Cars - free street parking as it's a Sunday.  There is also a paid parking lot four blocks from Red Vic at Stanyan and Beulah.
DTSTART:20050403T140000
DTEND:20050403T160000
END:VEVENT
END:VCALENDAR