BEGIN:VCALENDAR
VERSION:1.0
PRODID:BAV Web Calendar
TZ:-08
BEGIN:VEVENT
SUMMARY:Palo Alto Vegan Dinner (Monthly 2nd Tues.) - Bay Leaf Cafe
DESCRIPTION;ENCODING=QUOTED-PRINTABLE: Please visit Bay Area Vegetarians event calendar for more information or updates on this and other vegetarian and animal rights events.=0D=0A=0D=0Ahttp://www.bayareaveg.org/events.php#679 =0D=0A=0D=0AHost: Sean=0D=0A=0D=0ANotes:=0D=0A=0D=0ABay Leaf Cafe, 520 Ramona Street Palo Alto, CA 94301=0D=0A=0D=0A=0D=0A=0D=0APlease join us for the monthly Bay Area Vegetarians dinner in the south bay. Located in downtown Palo Alto, Bay Leaf Cafe offers delicious soups, sandwiches and ice cream. =0D=0A=0D=0AThe Bay Leaf Cafe is vegan owned and operated. All dishes are vegan and organic when possible. On top of all that the internet is even available through their wireless=0D=0A=0D=0Aaccess point (pretty hip eh?). =0D=0A=0D=0AThe Bay Leaf has been one of my favorite restaurants since it opened. Their Artichoke Quesadilla is so cheesy it's hard to believe it's vegan!=0D=0A=0D=0A=0D=0A=0D=0ARSVP is appreciated to insure seating with the group. Walk-ins accommodated as space permits.  This event happens monthly on the 2nd Tuesday.
DTSTART:20050412T190000
DTEND:20050412T190000
END:VEVENT
END:VCALENDAR