BEGIN:VCALENDAR
VERSION:1.0
PRODID:BAV Web Calendar
TZ:-08
BEGIN:VEVENT
SUMMARY:Have a Heart, Go Veg Leafleting & Dinner - SF
DESCRIPTION;ENCODING=QUOTED-PRINTABLE: Please visit Bay Area Vegetarians event calendar for more information or updates on this and other vegetarian and animal rights events.=0D=0A=0D=0Ahttp://www.bayareaveg.org/events.php#2086 =0D=0A=0D=0AHost: Tammy=0D=0A=0D=0ANotes:=0D=0A=0D=0AUpdate - we are discussing with volunteers who have already RSVP'ed about moving the leafleting to the Farmer's Market at the Ferry Building on Embarcadero, and starting at 11:30 a.m.  All other info about the event remains the same, and a decision will be made on Friday, 1/23 (and updated here).=0D=0A=0D=0A=0D=0A=0D=0AHave a Heart, Go Veg Leafleting! =0D=0A=0D=0A=0D=0A=0D=0A=0D=0A=0D=0A=0D=0A=0D=0AThe Top Ten Reasons to Leaflet=0D=0A=0D=0A10. Ignore everything your mother said - talk to strangers=0D=0A=0D=0A9.  Practice your best pick up lines    =0D=0A=0D=0A8. Get free Vitamin D=0D=0A=0D=0A7. Impress Alex so she'll give you a reference for a job at PETA=0D=0A=0D=0A6. Meet others who want to make a difference in the world=0D=0A=0D=0A5. Give people life-saving information=0D=0A=0D=0A4. Turn your good intentions into action =0D=0A=0D=0A3. Get out of the house and away from the computer=0D=0A=0D=0A2. Converting a meat-eater to veg*nism is cheaper than giving birth to one=0D=0A=0D=0A1. There's always vegan food afterwards.*=0D=0A=0D=0A=0D=0A=0D=0AWe are doing public outreach in San Francisco, starting at the popular cable car turnaround near Powell and busy intersections along Market St.  We have had very good response here, distributing hundreds of leaflets.  =0D=0A=0D=0ANo previous experience necessary, just a willingness to help animals and a smile!=0D=0A=0D=0AMeeting Location:  Powell and Market, by the ticket booth for the cable cars. =0D=0A=0D=0ABART or Muni:  Powell Station.=0D=0A=0D=0ALeafleting Starting Time: 1 pm sharp =0D=0A=0D=0ALeafleting time:  Approximately 90 minutes=0D=0A=0D=0ARSVP: Please click on my name above to RSVP, please include your cellphone # and I will confirm all RSVPs with my cellphone.  =0D=0A=0D=0A-Please indicate "YES" if you are a definite, or a "Maybe" if you are interested but not sure. =0D=0A=0D=0A-RSVPs are important because we need accurate RSVPs to forecast how much literature to bring. =0D=0A=0D=0AAlso needed:  If you're not sure about leafleting and just want to check it out, volunteer to be our event Photographer as we make history and save animal lives.=0D=0A=0D=0AVegan Food:  After the leafleting, we will be dining out.  The closest restaurants within walking distance are Golden Era and Ananda Fuara.  And there's always BART over Valencia St for Herbivore, Cha Ya or Udupi ...=0D=0A=0D=0A--If you can't attend the dining out, then just join us for the leafleting.  If you can't make the leafleting, we'll be doing this another time, so maybe you can join us then.=0D=0A=0D=0ARain cancels!=0D=0A=0D=0AImportant Leafleting circumstances are dynamic, and we may change locations or leafleting routes spontaneously.  So it's important to meet at the starting location promptly.  We encourage taking public transit when possible and allow yourself a few extra minutes so you're at our start point by the designated time.=0D=0A=0D=0A=0D=0A=0D=0A=0D=0A=0D=0A=0D=0A=0D=0A=0D=0A=0D=0A
DTSTART:20090124T130000
DTEND:20090124T143000
END:VEVENT
END:VCALENDAR