BEGIN:VCALENDAR
VERSION:1.0
PRODID:BAV Web Calendar
TZ:-08
BEGIN:VEVENT
SUMMARY:New Year (Re)Solutions Dinner & Meeting - SF
DESCRIPTION;ENCODING=QUOTED-PRINTABLE: Please visit Bay Area Vegetarians event calendar for more information or updates on this and other vegetarian and animal rights events.=0D=0A=0D=0Ahttp://www.bayareaveg.org/events.php#2046 =0D=0A=0D=0AHost: Tammy & Chris=0D=0A=0D=0ANotes:=0D=0A=0D=0AThanks for all the interest!  =0D=0A=0D=0AWe are full at this point - but please email us if you're interested so we can keep you in the loop for the next meeting.=0D=0A=0D=0A=0D=0A=0D=0A=0D=0A=0D=0A=0D=0A=0D=0A=0D=0A=0D=0A=0D=0A=0D=0A=0D=0A=0D=0A=0D=0A=0D=0A=0D=0A=0D=0AWe want to wish everyone a Happy New Year, and hope that 2009 will be a great year for advocacy & outreach in the Bay Area and with Bay Area Vegetarians, aka BAVeg aka Be-A-Veg=0D=0A=0D=0A=0D=0A=0D=0AThis is a beginning of a new year, and we’re in search of fresh ideas, energy and talent to help shape the direction of BAVeg for the future. BAVeg is run entirely by volunteers; we have no paid staff or offices.  So, our continued operation really is dependent upon each one of us.=0D=0A=0D=0A=0D=0A=0D=0AChris and I have been with BAVeg since its humble beginnings as “SFBAVeg” in October, 2001; we designed and built http://bayareaveg.org, including the custom Ultimate Guide, organized hundreds of events and activities, and incorporated it as a non-profit 501(c)(3).=0D=0A=0D=0A=0D=0A=0D=0AThrough all of this, we have enjoyed working with many wonderful and dedicated people over these years on BAVeg’s core principles of CARE — Community, Advocacy, Resources, and Education.=0D=0A=0D=0A=0D=0A=0D=0AThis dinner meeting will be an opportunity to meet with other like-minded folks and discuss forthcoming projects and volunteer needs, outreach strategies and styles, and just network and socialize, too, all while enjoying delicious vegan food.  Udupi is an all-vegetarian restaurant with many vegan selections of Southern Indian fare, including dosas and uthappam. And, unlike other SF restaurants, it is actually heated during the winter so we won’t need to bundle up just to eat.=0D=0A=0D=0A=0D=0A=0D=0ASo whether you’re new or old BAVeg member, aspiring or experienced activist/volunteer, as long as you are interested in working with BAVeg to promote veganism, please join us for this dinner meeting on January 29th, 2009 at 6 pm at Udupi Palace restaurant in SF.=0D=0A=0D=0A=0D=0A=0D=0ATurn your resolutions to help animals, be more active, and promote veganism into actionable solutions!=0D=0A=0D=0A=0D=0A=0D=0AWe look forward to meeting and working with you in 2009.=0D=0A=0D=0A=0D=0A=0D=0ACheers,=0D=0A=0D=0ATammy and Chris=0D=0A=0D=0Aco-founders of BAVeg=0D=0A=0D=0A=0D=0A=0D=0A=0D=0A=0D=0ALocation:  Udupi Palace restaurant, 1007 Valencia St, SF=0D=0A=0D=0AUltimate Guide info & reviews=0D=0A=0D=0APlease bring cash in small bill to pay for what you order.=0D=0A=0D=0A=0D=0A=0D=0A=0D=0A=0D=0A=0D=0A=0D=0A=0D=0A=0D=0A=0D=0A=0D=0A=0D=0A=0D=0A=0D=0A=0D=0A=0D=0A=0D=0A=0D=0A=0D=0A=0D=0A=0D=0A
DTSTART:20090129T180000
DTEND:20090129T180000
END:VEVENT
END:VCALENDAR