BEGIN:VCALENDAR
VERSION:1.0
PRODID:BAV Web Calendar
TZ:-08
BEGIN:VEVENT
SUMMARY:East Bay Vegan Brunch/Lunch  - Herbivore / Berkeley
DESCRIPTION;ENCODING=QUOTED-PRINTABLE: Please visit Bay Area Vegetarians event calendar for more information or updates on this and other vegetarian and animal rights events.=0D=0A=0D=0Ahttp://www.bayareaveg.org/events.php#2002 =0D=0A=0D=0AHost: Roni Seabury=0D=0A=0D=0ANotes:=0D=0A=0D=0AThis is a new monthly dining event on the last Sunday of every month.  This event is meant for like minded vegans to enjoy getting together discussing veganism over a nice vegan brunch/lunch!   =0D=0A=0D=0A=0D=0A=0D=0AYou don't necessarily have to be vegan, you can be vegetarian or just curious what being vegan is all about. We each have our own story to tell. Getting together will be a positive experience and not for people to debate our choices.=0D=0A=0D=0A=0D=0A=0D=0APlease join us! =0D=0A=0D=0A=0D=0A=0D=0ALocation: Herbivore, 2451 Shattuck Ave. (Haste St.), Berkeley=0D=0A=0D=0AUltimate Guide information & Reviews=0D=0A=0D=0A(Note, if location says TBD, please check back or stay-tuned for an announcement)
DTSTART:20090125T113000
DTEND:20090125T113000
END:VEVENT
END:VCALENDAR