BEGIN:VCALENDAR
VERSION:1.0
PRODID:BAV Web Calendar
TZ:-08
BEGIN:VEVENT
SUMMARY:Sand-n-Surf Vegan Food Party! - Montara State Beach 
DESCRIPTION;ENCODING=QUOTED-PRINTABLE: Please visit Bay Area Vegetarians event calendar for more information or updates on this and other vegetarian and animal rights events.=0D=0A=0D=0Ahttp://www.bayareaveg.org/events.php#1904 =0D=0A=0D=0AHost: Tammy=0D=0A=0D=0ANotes:=0D=0A=0D=0A=0D=0A=0D=0A=0D=0A=0D=0A=0D=0A=0D=0A=0D=0A=0D=0A2007 Sand-n-Surf Photos =0D=0A=0D=0A=0D=0A=0D=0A........................................................................................................................................................................................................................=0D=0A=0D=0AJoin us for our Annual Sand-n-Surf 4th of July Vegan Food Party & Picnic!  We will celebrate on the Sand and near the Surf with Vegan Food! This is a beautiful, pristine beach for a vegan picnic. =0D=0A=0D=0AEveryone is welcome, both veg & non-veg, as long as each person is open-minded and brings vegan food to share :-)=0D=0A=0D=0APlease see VFP guidelines for more details on what to bring.=0D=0A=0D=0AA few important notes:=0D=0A=0D=0A1. Please bring re-useable cups/plates, etc.  It's better for the environment.=0D=0A=0D=0A2. Please be prepared to carry out all of your trash.  Help us keep Montara State Beach clean.=0D=0A=0D=0A3. Please read the VFP Guidelines about what to bring.  Seriously, this could mean the difference between eating and not eating.=0D=0A=0D=0A4. Questions? Please email event organizer, Tammy, by clicking HERE=0D=0A=0D=0A5. RSVPs are appreciated so we know how much sand to reserve.  Click HERE to RSVP .  We're using evite, you're welcome to organize your own carpool, or invite some friends to carpool with you!  You can also post to the SFBAVEG list=0D=0A=0D=0A6.  Gather at 1 pm, eat at 1:30 pm :-)=0D=0A=0D=0A=0D=0A=0D=0ALocation/Directions=0D=0A=0D=0AOn the San Francisco Peninsula in San Mateo County, approx. 20 miles south of San Francisco. The beach is located eight miles north of Half Moon Bay on Highway One. =0D=0A=0D=0A=0D=0A=0D=0AThere are two beach access points from the bluff area. The one to use (closest to where we will be setup) is across from Second Street, immediately south of the Outrigger restaurant. The second access is located about a half-mile north on the ocean side of Highway 1. The paths down to the beach are steep=0D=0A=0D=0A=0D=0A=0D=0AUse the access by the restaurant (it's about 25 steps down to the ocean level).  Then look for our green/white canopy with the Bay Area Vegetarians sign=0D=0A=0D=0AYou can also do a google map search for "Montara State Beach, CA" or click here=0D=0A=0D=0ACA State Parks-Montara State Beach=0D=0A=0D=0AMontara Weather Info=0D=0A=0D=0AFor anyone bringing dogs - please be sure to bring something to provide a shaded area and plenty of fresh drinking water.  And don't forget that light-colored noses and fur can get sunburn, too.
DTSTART:20080704T130000
DTEND:20080704T160000
END:VEVENT
END:VCALENDAR