BEGIN:VCALENDAR
VERSION:1.0
PRODID:BAV Web Calendar
TZ:-08
BEGIN:VEVENT
SUMMARY:Have a Heart, Go Veg Leafleting at Haight Street Fair - SF
DESCRIPTION;ENCODING=QUOTED-PRINTABLE: Please visit Bay Area Vegetarians event calendar for more information or updates on this and other vegetarian and animal rights events.=0D=0A=0D=0Ahttp://www.bayareaveg.org/events.php#1870 =0D=0A=0D=0AHost: Tammy=0D=0A=0D=0ANotes:=0D=0A=0D=0A=0D=0A=0D=0A=0D=0A=0D=0A=0D=0A=0D=0AHave a Heart, Go Veg Leafleting! =0D=0A=0D=0A=0D=0A=0D=0AIf your goals for 2008 include... =0D=0A=0D=0A-making the world a kinder and gentler place for ALL beings=0D=0A=0D=0A-meeting new people =0D=0A=0D=0A-getting out more =0D=0A=0D=0A-making time for fun and yummy vegan food =0D=0A=0D=0A=0D=0A=0D=0Athen join us for this month's Have a Heart, Go Veg Leafleting !!=0D=0A=0D=0AWe are leafleting attendees at the classic HAIGHT ASHBURY STREET FAIR, which runs along Haight Street from Stanyan to Masonic, then we'll mosey on down to some vegan vittles at Herbivore's on Divisadero.=0D=0A=0D=0A  =0D=0A=0D=0AStarting Location:  Haight & Stanyan.   Update 6/5 - We've had a good response, so if we can get one or two more people, we'll have a second team start at the Masonic & Haight side of the fair.=0D=0A=0D=0A=0D=0A=0D=0AStarting Time:  Noon, sharp!  Please plan on arriving a few minutes early.  =0D=0A=0D=0ALeafleting time:  Approximately 60-90 minutes=0D=0A=0D=0ARSVP: Please click on my name above to RSVP, please include your cellphone # and I will confirm all RSVPs with my cellphone.  =0D=0A=0D=0A-Please indicate "YES" if you are a definite, or a "Maybe" if you are interested but not sure. =0D=0A=0D=0A-RSVPs are important because we need accurate RSVPs to forecast how much literature to bring. =0D=0A=0D=0AAlso needed:  If you're not sure about leafleting and just want to check it out, volunteer to be our CART wrangler!  It's hard to leaflet and manage the cart laden with leaflets, so this is a very important job for our leafleting effort.  And if could possibly take PHOTOGRAPHS of our leafleting activity and results, that's great to record our life-saving activity!  =0D=0A=0D=0AVegan Food:  After leafleting, we'll enjoy good food & fellowship over vegan vittles at one of SF's vegetarian restaurants=0D=0A=0D=0A--If you can't attend the dining out, then just join us for the leafleting.  If you can't make the leafleting, we'll be doing this another time, so maybe you can join us then.=0D=0A=0D=0ARain cancels!=0D=0A=0D=0AImportant Leafleting cirumstances are dynamic, and we may change locations or leafleting routes spontaneously.  So it's important to meet at the starting location promptly.  We encourage taking public transit when possible and allow yourself a few extra minutes so you're at our start point by the designated time.=0D=0A=0D=0A=0D=0A=0D=0A=0D=0A=0D=0A=0D=0A=0D=0A=0D=0A=0D=0A
DTSTART:20080608T120000
DTEND:20080608T120000
END:VEVENT
END:VCALENDAR