BEGIN:VCALENDAR
VERSION:1.0
PRODID:BAV Web Calendar
TZ:-08
BEGIN:VEVENT
SUMMARY:Silicon Valley Lunch (Merit Vegetarian) - Sunnyvale
DESCRIPTION;ENCODING=QUOTED-PRINTABLE: Please visit Bay Area Vegetarians event calendar for more information or updates on this and other vegetarian and animal rights events.=0D=0A=0D=0Ahttp://www.bayareaveg.org/events.php#1771 =0D=0A=0D=0AHost: Chris=0D=0A=0D=0ANotes:=0D=0A=0D=0APinging all Silicon Valley BAVeg'ers! =0D=0A=0D=0A Are you ready for a NEW regular lunchtime get-together to share vegan food?   =0D=0A=0D=0AFor the this Silicon Valley lunch, let's go to Merit Vegetarian Restaurant in Sunnyvale.  This is a pretty new restaurant serving Vietnamese vegetarian/mostly vegan food.  Lots of options if you like faux meats or if you like vegetables.  =0D=0A=0D=0AMerit has approx. 10 lunch specials available (with brown rice available at no extra charge) for $7 + tax/tip.  You can also order off their regular menu.  FYI, if you're a fan of Golden Era (SF) or Golden Lotus (Oakland), you'll enjoy the food at Merit.=0D=0A=0D=0AGoing forward, we'll figure out if once a month to start with, or even twice a month if sufficient interest. Nothing fancy, we'll just set a regular repeating date and time. Everyone is welcome to join, both veg & non-veg, but remember, we're ordering only vegan foods.=0D=0A=0D=0A=0D=0A=0D=0ALocation::  Merit Vegetarian, 548 Lawrence Expressway #2, Sunnyvale =0D=0A=0D=0AUltimate Guide Information & Reviews=0D=0A=0D=0ARSVP:  If you'd like sit with the group, please RSVP (click on my name above) so I know you'll be joining us.  If you need to change your RSVP, please also let me know.  Walk-ins accomodated as space permits.=0D=0A=0D=0A............................................................................................................................................................................................................................=0D=0A=0D=0AIf you'd like to host an event for BAVeg, please let us know!
DTSTART:20071219T121500
DTEND:20071219T121500
END:VEVENT
END:VCALENDAR