BEGIN:VCALENDAR
VERSION:1.0
PRODID:BAV Web Calendar
TZ:-08
BEGIN:VEVENT
SUMMARY:Walk for Farm Animals with BAVeg! - SF
DESCRIPTION;ENCODING=QUOTED-PRINTABLE: Please visit Bay Area Vegetarians event calendar for more information or updates on this and other vegetarian and animal rights events.=0D=0A=0D=0Ahttp://www.bayareaveg.org/events.php#1713 =0D=0A=0D=0AHost: Tammy=0D=0A=0D=0ANotes:=0D=0A=0D=0AMany animals raised for food cannot walk.  Chickens who lay eggs are crammed in cages so small, with other chickens, that they don't have space to even lift one wing, much less walk.  Pigs and veal calves confined in narrow pens.  =0D=0A=0D=0A=0D=0A=0D=0AJoin us, walk for those who can't in the San Francisco Walk for Farm Animals on 10/13 in SF. All funds raised benefit Farm Sanctuary, a nonprofit organization.  (Bay Area Veg is not receiving any funding from this activity; we are supporting it with a team.)=0D=0A=0D=0AYou can register online by clicking HERE=0D=0A=0D=0A"Animals are Friends, not Food"=0D=0A=0D=0AThat's the BAVeg team in this walkathon.   We would love to have your company and the animals and Farm Sanctuary need your support!=0D=0A=0D=0A=0D=0A=0D=0ADate:  Saturday, October 13th, 2007=0D=0A=0D=0ATime:  Registration: 10 a.m., Walk: 11 a.m.=0D=0A=0D=0ALocation:  Ferry Building on the Embarcacdero, at the foot of Market Street=0D=0A=0D=0ADirections:  Meet us directly in front of the Ferry Building=0D=0A=0D=0AWalk Route - Walk along the Embarcadero to Fisherman's Wharf and then back (total distance 3 miles)=0D=0A=0D=0AWalk with BAVeg - please be sure to RSVP so we can meet and walk together.  =0D=0A=0D=0AIf you can't make the date, please consider sponsoring a walker in our team!  Click HERE.=0D=0A=0D=0APlease visit one of Northern California's sanctuaries for farmed animals - Farm Sanctuaryin Orland or Animal Place, located in Vacaville.  These are some photos from BAVeg's last trip to Animal Place.=0D=0A=0D=0A=0D=0A=0D=0A=0D=0A=0D=0A=0D=0A=0D=0A=0D=0A=0D=0A=0D=0A=0D=0A=0D=0A=0D=0A2007 Animal Place Photos  | 2006 Animal Place Photos | 2005 Animal Place Photos
DTSTART:20071013T103000
DTEND:20071013T103000
END:VEVENT
END:VCALENDAR