BEGIN:VCALENDAR
VERSION:1.0
PRODID:BAV Web Calendar
TZ:-08
BEGIN:VEVENT
SUMMARY:KFC Cruelty Protest! - San Jose
DESCRIPTION;ENCODING=QUOTED-PRINTABLE: Please visit Bay Area Vegetarians event calendar for more information or updates on this and other vegetarian and animal rights events.=0D=0A=0D=0Ahttp://www.bayareaveg.org/events.php#1685 =0D=0A=0D=0AHost: Vanessa=0D=0A=0D=0ANotes:=0D=0A=0D=0APlease stand up for Chickens and protest KFC!  For more info on this nationwide campaign to get KFC to mandate better conditions for the 750,000,000 chickens slaughtered, click here=0D=0A=0D=0A=0D=0A=0D=0ALocation:: KFC, 552 East Santa Clara Street, San Jose 95112=0D=0A=0D=0A(next to the Vegetarian House restaurant)  =0D=0A=0D=0APlease Join us!  We need support!  Organized by Students for Animal Rights at San Jose State University.=0D=0A=0D=0APlease see BAVeg's calendar for other KFC cruelty protests. =0D=0A=0D=0A
DTSTART:20071111T120000
DTEND:20071111T120000
END:VEVENT
END:VCALENDAR