BEGIN:VCALENDAR
VERSION:1.0
PRODID:BAV Web Calendar
TZ:-08
BEGIN:VEVENT
SUMMARY:Grass-and-Lake Vegan Food Party - canceled - Lake Temescal (Oakland)
DESCRIPTION;ENCODING=QUOTED-PRINTABLE: Please visit Bay Area Vegetarians event calendar for more information or updates on this and other vegetarian and animal rights events.=0D=0A=0D=0Ahttp://www.bayareaveg.org/events.php#1631 =0D=0A=0D=0AHost: Pam & Roy=0D=0A=0D=0ANotes:=0D=0A=0D=0AThanks for your interest, but the VFP has been canceled.  We hope to reschedule it earlier next year, in the Spring.  ....................................................................................................................................................................................=0D=0A=0D=0APlease bring your friends and join us, or join us to meet new friends, at our 5th Annual "Grass-and-Lake" VEGAN FOOD PARTY!  Yes, there is big grassy area and a Lake.  And lots of yummy Vegan Food!  =0D=0A=0D=0A=0D=0A=0D=0APlease see VFP guidelines for more details on what to bring. Basically, a vegan dish that generously provides for 6 people, whatever you need to serve your dish with and a place setting for yourself, plus ingredient list.  If there are two of you, you can bring one dish that serves 12, or two dishes, and so forth.=0D=0A=0D=0A=0D=0A=0D=0AVFP picnic starts at noon, arrive on time for best food selection!  We'll be there until 3 or 4 or maybe later... You are welcome to bring guests as long as they bring vegan food to share :-)=0D=0A=0D=0A=0D=0A=0D=0ALocation:  Lake Temescal, Oakland.  Meet at the Broadway Terrace end of the lake.  Look for the green sun tent/canopy.  =0D=0A=0D=0A=0D=0A=0D=0AThere is parking at both ends of this lake, but there is a $5 charge.  However, off Broadway Terr. you can park on street in neighborhood and walk down to lake.  You may also park at Broadway end of lake which will require about half mile walk to get to our picnic area.  There is swimming allowed on Broadway end for a fee (call the Park to confirm). =0D=0A=0D=0A=0D=0A=0D=0ATemescal can be reached from Hwy 24 or from Hwy 13 Broadway Terr. exit.  =0D=0A=0D=0A=0D=0A=0D=0APlease RSVP on the Evite link -=0D=0A=0D=0Ahttp://www.evite.com/app/publicUrl/sfbaveg@yahoo.com/vfp_oct2007=0D=0A=0D=0A=0D=0A=0D=0AQuestions?  Contact the host, Pam by email or by phone AFTER 11 am at 510-653-7966 =0D=0A=0D=0APhotos from previous Lake Temescal VFPs:=0D=0A=0D=0A=0D=0A=0D=0A=0D=0A=0D=0A=0D=0A=0D=0A=0D=0A=0D=0A............................................................................................................................................................................................................................=0D=0A=0D=0AIf you'd like to host an event for BAVeg in your community,  please email Tammy!  Thanks for your interest!
DTSTART:20071014T120000
DTEND:20071014T150000
END:VEVENT
END:VCALENDAR