BEGIN:VCALENDAR
VERSION:1.0
PRODID:BAV Web Calendar
TZ:-08
BEGIN:VEVENT
SUMMARY:Outreach at Stern Grove Music Festival - SF
DESCRIPTION;ENCODING=QUOTED-PRINTABLE: Please visit Bay Area Vegetarians event calendar for more information or updates on this and other vegetarian and animal rights events.=0D=0A=0D=0Ahttp://www.bayareaveg.org/events.php#1629 =0D=0A=0D=0AHost: BAVeg=0D=0A=0D=0ANotes:=0D=0A=0D=0AWe need two volunteers at each event.  If you're interested in volunteering, please check the volunteer schedule by clicking HERE=0D=0A=0D=0A--------------------------------------------------------------------------------------=0D=0A=0D=0A=0D=0A=0D=0AThe Stern Grove Festival occurs every Sunday at 2pm from June 17th to August 19th. Between 10,000 and 20,000 attend each concert. Most of the people walk down a narrow path and cannot help but see any poster/tables that are setup. I passed out 400 guides in just a few hours here, and could have passed out more if I had them!  Leafletting for Stern Grove usually needs to start about 1.5-2.0 hrs before the concert (they fill up early) when people are walking into the place. Also, that leaves us time to go grab a seat, watch the event, then leaflet again when people leave or just leave an information table setup for people to walk by and read or grab literature. I would love to have someone join me for each event.  No previous experience necessary!
DTSTART:20070729T123000
DTEND:20070729T123000
END:VEVENT
END:VCALENDAR