BEGIN:VCALENDAR
VERSION:1.0
PRODID:BAV Web Calendar
TZ:-08
BEGIN:VEVENT
SUMMARY:Vegan Book Club:  Never Let Me Go - TBD
DESCRIPTION;ENCODING=QUOTED-PRINTABLE: Please visit Bay Area Vegetarians event calendar for more information or updates on this and other vegetarian and animal rights events.=0D=0A=0D=0Ahttp://www.bayareaveg.org/events.php#1597 =0D=0A=0D=0AHost: Lisa=0D=0A=0D=0ANotes:=0D=0A=0D=0ASince January 2006, we have had a book club!  The "Vegan Book Club" gets together for informal discussions of a preselected book. Unlike other book clubs, vegan refreshments that everyone can enjoy will be part of the experience (either during or after the discussion).  8 general books will be discussed, and there is a separate book club ("Food for Thought") for vegetarian/animal rights books.   =0D=0A=0D=0A=0D=0A=0D=0AWe're a full group of 10 but that we have wait lists for specific meetings in the event of member cancellations for those particular groups, and for the group as a regular member in case current members leave the group.  =0D=0A=0D=0ABook:  Never Let Me Go by Kazuo Ishiguro=0D=0A=0D=0A (If not listed, please visit the Book Club discussion forum to review what book is currently being read.)  Decisions about future books will be determined at meetings and you can also post your ideas for books and restaurants in the forum.  If you've been following our book club thread at http://bayareaveg.org/forum/ under the category BAVeg Book Club, I've edited my own posts there to reflect the change in meeting time and places and the number of members we will accept.=0D=0A=0D=0A=0D=0A=0D=0AKeeping the meetings to 9 participants and eating while we talk should make the meetings more informal and enjoyable, and will allow for full participation by all attendees.=0D=0A=0D=0A=0D=0A=0D=0A=0D=0A=0D=0APlease check out the web site. You should find answers to all of your questions there:=0D=0A=0D=0A=0D=0A=0D=0Ahttp://www.bayareaveg.org/forum/viewforum.php?f=49=0D=0A=0D=0A=0D=0A=0D=0AI'm hoping that this will be a fun activity for those who enjoy reading, eating vegan food, and meeting other vegans/vegetarians/interested people.=0D=0A=0D=0A=0D=0A=0D=0AI'm looking forward to meeting the group members. Take care. Bye for now.   Lisa 
DTSTART:20070722T150000
DTEND:20070722T150000
END:VEVENT
END:VCALENDAR