BEGIN:VCALENDAR
VERSION:1.0
PRODID:BAV Web Calendar
TZ:-08
BEGIN:VEVENT
SUMMARY:Leafleting Veg Info & Lunch - canceled - SF
DESCRIPTION;ENCODING=QUOTED-PRINTABLE: Please visit Bay Area Vegetarians event calendar for more information or updates on this and other vegetarian and animal rights events.=0D=0A=0D=0Ahttp://www.bayareaveg.org/events.php#1535 =0D=0A=0D=0AHost: Susan Rattenbury=0D=0A=0D=0ANotes:=0D=0A=0D=0APlease join us for some quick lunch-time leafleting Thursday, February 8th in San Francisco.  We'll meet at the intersection of 2nd and Market Streets, which is very near the Montgomery Street BART station.  Leaflet in the vicinity and make our way up to Kearney Street Pies (307 Kearney Street at Bush) for lunch.=0D=0A=0D=0A=0D=0A=0D=0AWe'll start at 11:30 and stay in that area for an hour or so to take advantage of the lunch-time crowd.  If you work in this part of the city and only have limited time off for lunch, please email me; the time is flexible and we can make this work for YOU.=0D=0A=0D=0A=0D=0A=0D=0ARain cancels.  Leaflets provided; please RSVP (and throw in your cell #) so we can bring extra.  It can be chilly; dress appropriately.=0D=0A=0D=0A=0D=0A=0D=0AI'm relatively new at leafleting after waiting literally years in to do this because I feared negative confrontation.  Boy, was I wrong to have waited!  Just finished my fourth time out and I am amazed.  People WANT this information.  If they don't, they say, "No thank you" and that's that.  EASY!  Come on out and teach consumers to spend less on cruelty on more on health!  Hope to see you there.=0D=0A=0D=0A=0D=0A=0D=0ASusan Rattenbury
DTSTART:20070208T113000
DTEND:20070208T113000
END:VEVENT
END:VCALENDAR