BEGIN:VCALENDAR
VERSION:1.0
PRODID:BAV Web Calendar
TZ:-08
BEGIN:VEVENT
SUMMARY:Veganauts:  Mission to Sushi - SF
DESCRIPTION;ENCODING=QUOTED-PRINTABLE: Please visit Bay Area Vegetarians event calendar for more information or updates on this and other vegetarian and animal rights events.=0D=0A=0D=0Ahttp://www.bayareaveg.org/events.php#1530 =0D=0A=0D=0AHost: Tammy & Chris=0D=0A=0D=0ANotes:=0D=0A=0D=0AWanted:  Veganauts=0D=0A=0D=0A=0D=0A=0D=0AMission:  To explore, celebrate and share vegan food with new and old friends at vegetarian restaurants throughout the San Francisco Bay Area.=0D=0A=0D=0A=0D=0A=0D=0APlease join us for the 6th expedition to Cha Ya Restaurant. This is the second location in SF, serving entirely vegan and Japanese cuisine.  It's very popular for delicately seasoned food, attentive and courteous service, and overall enjoyable dinng experience.=0D=0A=0D=0A=0D=0A=0D=0AOur expedition will be to explore and investigate the dinner menu. They have a wide variety of sushi that can be ordered a la carte, as well as noodle, rice dishes, and more.  Excellent salads too.  =0D=0A=0D=0APlease note - the restaurant does not accept credit cards, so please bring cash for your meal (you will pay for what you order + tax & tip).=0D=0A=0D=0A=0D=0A=0D=0AYou are *welcome* to invite family and friends to join us, even non-veg ones :-) =0D=0A=0D=0A=0D=0A=0D=0ALocation:  Cha Ya Restaurant, SF=0D=0A=0D=0AFor location, reviews -- all that and more -- read the Ultimate Guide, click here.=0D=0A=0D=0ARSVPs are recommended to insure seating with the group.  RSVPs are due 7 pm the day before the dinner.  Late RSVPs or walk-ins will be accomodated as space permits.=0D=0A=0D=0APlease click on hosts' name above to RSVP.  All timely RSVPs will be confirmed with a reply email.=0D=0A=0D=0AFor the mission schedule, please visit the Veganauts schedule  If you would like to guest host at your favorite veg*n restaurant, please bring this up at the mission briefing.
DTSTART:20070228T180000
DTEND:20070228T180000
END:VEVENT
END:VCALENDAR