BEGIN:VCALENDAR
VERSION:1.0
PRODID:BAV Web Calendar
TZ:-08
BEGIN:VEVENT
SUMMARY:Marin Vegan Food & Fellowship Dinner - San Anselmo
DESCRIPTION;ENCODING=QUOTED-PRINTABLE: Please visit Bay Area Vegetarians event calendar for more information or updates on this and other vegetarian and animal rights events.=0D=0A=0D=0Ahttp://www.bayareaveg.org/events.php#1519 =0D=0A=0D=0AHost: Alicia=0D=0A=0D=0ANotes:=0D=0A=0D=0APlease save the date for our next BAVEG dinner in Marin!   This is a monthly dinner series happening on the 3rd Thursday of every month.=0D=0A=0D=0AEveryone is welcome to join us, both veg and non-veg, members and guests.  Please note, for this dinner, we will only be ordering vegan foods.=0D=0A=0D=0ALocation: Orchid Thai Restaurant, 726 San Anselmo Ave,  San Anselmo, (415) 457-9470 =0D=0A=0D=0APlease RSVP for dinner so we can plan accordingly. RSVP deadline is two days in advance by 5 pm Pacific time. Tentative RSVPs and Walk-ins accommodated as space permits. 
DTSTART:20070215T190000
DTEND:20070215T190000
END:VEVENT
END:VCALENDAR