BEGIN:VCALENDAR
VERSION:1.0
PRODID:BAV Web Calendar
TZ:-08
BEGIN:VEVENT
SUMMARY:Vegan Restaurant and Bar Night - SF
DESCRIPTION;ENCODING=QUOTED-PRINTABLE: Please visit Bay Area Vegetarians event calendar for more information or updates on this and other vegetarian and animal rights events.=0D=0A=0D=0Ahttp://www.bayareaveg.org/events.php#1517 =0D=0A=0D=0AHost: Gabe Quash, Mat Thomas=0D=0A=0D=0ANotes:=0D=0A=0D=0AJoin us for good Chinese food at Golden Era and then a night out on the town.  After dinner, we will be going to Nob Hill Tavern, a casual bar with good drink specials and pool tables.   After that we may go to more  bars in the neighborhood...   Please email any questions and  RSVP to gabequash@yahoo.com.  Here are the details:=0D=0A=0D=0A=0D=0A=0D=0A7:00 pm - dinner:=0D=0A=0D=0AGolden Era Vegetarian Restaurant=0D=0A=0D=0A572 O'Farrell Street (between Jones & Leavenworth)=0D=0A=0D=0A=0D=0A=0D=0AAround  8:30 pm or 9:00 -  drinks:  =0D=0A=0D=0ANob Hill Tavern =0D=0A=0D=0A1390 California Street (at Hyde)=0D=0A=0D=0A=0D=0A=0D=0A
DTSTART:20070202T190000
DTEND:20070202T230000
END:VEVENT
END:VCALENDAR