BEGIN:VCALENDAR
VERSION:1.0
PRODID:BAV Web Calendar
TZ:-08
BEGIN:VEVENT
SUMMARY:Jack Norris on Veganism:  Does it Spread Itself? - SF
DESCRIPTION;ENCODING=QUOTED-PRINTABLE: Please visit Bay Area Vegetarians event calendar for more information or updates on this and other vegetarian and animal rights events.=0D=0A=0D=0Ahttp://www.bayareaveg.org/events.php#1514 =0D=0A=0D=0AHost: Compassionate Living Program=0D=0A=0D=0ANotes:=0D=0A=0D=0AVegan foods and vegan advocacy have come a long way since the word 'vegan' or the concept of 'animal rights' was first introduced. So this is a very special Vegan Food Party since Jack Norris, President of Vegan Outreach, will be our special guest as part of Bay Area Vegetarians' Compassionate Living Program:=0D=0A=0D=0A=0D=0A=0D=0AVeganism: Does it Spread Itself?=0D=0A=0D=0AJack Norris will talk about the animal rights and vegan movement history. =0D=0A=0D=0AHas the three-pronged approach been a success or should it be discarded? Jack will discuss what's been tried, where we're at, and where we might want to go from here.=0D=0A=0D=0A=0D=0A=0D=0AJack Norris co-founded Vegan Outreach in 1993 with Matt Ball. He leafleted at 240 colleges from 1995-97. He now runs Vegan Outreach's Adopt A College program. Jack is also a Registered Dietitian and maintains the website VeganHealth.org.=0D=0A=0D=0A=0D=0A=0D=0AVegan Outreach "Why Vegan" booklet, Jack (left) leaflets at Sac State, VO "Even If You Like Meat" booklet=0D=0A=0D=0A=0D=0A=0D=0A=0D=0A=0D=0A=0D=0A=0D=0A=0D=0A=0D=0AThe presentation starts at 5 pm.  Cost: Free.=0D=0A=0D=0A=0D=0A=0D=0AYou are welcome to join us for the Vegan Food Party that immediately precedes this event.  For information on the VFP, please see=0D=0A=0D=0A=0D=0A=0D=0A
DTSTART:20070211T170000
DTEND:20070211T170000
END:VEVENT
END:VCALENDAR