BEGIN:VCALENDAR
VERSION:1.0
PRODID:BAV Web Calendar
TZ:-08
BEGIN:VEVENT
SUMMARY:Vegan Food Party with Vegan Outreach's Jack Norris - SF
DESCRIPTION;ENCODING=QUOTED-PRINTABLE: Please visit Bay Area Vegetarians event calendar for more information or updates on this and other vegetarian and animal rights events.=0D=0A=0D=0Ahttp://www.bayareaveg.org/events.php#1513 =0D=0A=0D=0AHost: Ariel & Becky=0D=0A=0D=0ANotes:=0D=0A=0D=0APlease join us for an evening of veggie food and fellowship at Bay Area Vegetarians' famous Vegan Food Party at 3 pm, followed by a fascinating presentation at 5 pm.=0D=0A=0D=0A=0D=0A=0D=0AVegan foods and vegan advocacy have come a long way since the word 'vegan' or the concept of 'animal rights' was first introduced. So this is a very special Vegan Food Party since Jack Norris, President of Vegan Outreach, will be our special guest as part of Bay Area Vegetarians' Compassionate Living Program:=0D=0A=0D=0A=0D=0A=0D=0AVeganism: Does it Spread Itself?=0D=0A=0D=0AJack Norris will talk about the animal rights and vegan movement history. =0D=0A=0D=0AHas the three-pronged approach been a success or should it be discarded? Jack will discuss what's been tried, where we're at, and where we might want to go from here.=0D=0A=0D=0A=0D=0A=0D=0AJack Norris co-founded Vegan Outreach in 1993 with Matt Ball. He leafleted at 240 colleges from 1995-97. He now runs Vegan Outreach's Adopt A College program. Jack is also a Registered Dietitian and maintains the website VeganHealth.org.=0D=0A=0D=0A=0D=0A=0D=0AVegan Outreach "Why Vegan" booklet, Jack (left) leaflets at Sac State, VO "Even If You Like Meat" booklet=0D=0A=0D=0A=0D=0A=0D=0A=0D=0A=0D=0A=0D=0A=0D=0A=0D=0A=0D=0AVegan Food Party Info=0D=0A=0D=0AThis is a wonderful opportunity for new and old friends to gather together and share their favorite homemade vegan foods.  We encourage you to "animal test" new vegan recipes on willing volunteers.  =0D=0A=0D=0A=0D=0A=0D=0APlease remember to bring a food dish that provides 6-8 generous servings, recipe/ingredients list, and your own place setting plus serving utensil.  =0D=0A=0D=0AIf you're new to vegan food or Vegan Food Parties, please read the VFP Guidelines for more info.=0D=0A=0D=0A=0D=0A=0D=0AIf you're a new vegan or vegetarian and need help, please ask!  Recommended places for great recipes -  Cooking Column | goveg.com | Chef Alex's website http://alexbury.com |=0D=0A=0D=0A=0D=0A=0D=0AEveryone is welcome, both veg and non-veg, members and non-members, as well as kids.=0D=0A=0D=0A=0D=0A=0D=0ALocation:  Private residence in SF, between Castro and Haight.  Public transit is available (one flight of SF steps plus 3 blocks); not recommended in the rain though.  Directions will be sent to everyone who RSVPs approx. 3 days before the event, using the evite guest list=0D=0A=0D=0A=0D=0A=0D=0APlease RSVP via the evite:=0D=0A=0D=0Ahttp://www.evite.com/app/publicUrl/sfbaveg@yahoo.com/vfp_feb07=0D=0A=0D=0A=0D=0A=0D=0ANote for those with allergies:  there are 2 dogs in residence but they will not be joining us for the party.
DTSTART:20070211T150000
DTEND:20070211T150000
END:VEVENT
END:VCALENDAR