BEGIN:VCALENDAR
VERSION:1.0
PRODID:BAV Web Calendar
TZ:-08
BEGIN:VEVENT
SUMMARY:Happy Bamboo dinner - San Jose
DESCRIPTION;ENCODING=QUOTED-PRINTABLE: Please visit Bay Area Vegetarians event calendar for more information or updates on this and other vegetarian and animal rights events.=0D=0A=0D=0Ahttp://www.bayareaveg.org/events.php#1502 =0D=0A=0D=0AHost: Melissa=0D=0A=0D=0ANotes:=0D=0A=0D=0APlease join us for Bay Area Vegetarians' "Happy Bamboo dinner" in San Jose on Tuesday December 12, 2006 at 7pm. Happy Bamboo is a vegetarian/mostly vegan Vietnamese restaurant. They have the most amazing vegan drumsticks I have ever had. At a recent dinner, 9 folks attended, and 7 had never been there before, but they all said that they loved it. =0D=0A=0D=0A=0D=0A=0D=0AHappy Bamboo is located just off the 85 freeway at Camden (at Branham) in San Jose. For more info on Happy Bamboo and to read the outstanding reviews in the Ultimate Guide, see=0D=0A=0D=0A=0D=0A=0D=0AHappy Bamboo=0D=0A=0D=0A=0D=0A=0D=0AThe dinner is open to both veg*ns and non-veg*ns, but please note, that if you will be sitting with the group, that only VEGAN food can be ordered. Happy Bamboo is about 95% vegan, so that will not be difficult.  =0D=0A=0D=0A=0D=0A=0D=0AHappy Bamboo is a small restaurant so I will need to get an exact count of who will be attending. Please RSVP by 12 noon on the day of the dinner to insure seating with the group.  Walk-ins accommodated as space permits.
DTSTART:20070213T190000
DTEND:20070213T190000
END:VEVENT
END:VCALENDAR