BEGIN:VCALENDAR
VERSION:1.0
PRODID:BAV Web Calendar
TZ:-08
BEGIN:VEVENT
SUMMARY:VFP - Benicia
DESCRIPTION;ENCODING=QUOTED-PRINTABLE: Please visit Bay Area Vegetarians event calendar for more information or updates on this and other vegetarian and animal rights events.=0D=0A=0D=0Ahttp://www.bayareaveg.org/events.php#1485 =0D=0A=0D=0AHost: Meghann=0D=0A=0D=0ANotes:=0D=0A=0D=0APlease join us for an evening of veggie food and fellowship at Bay Area Vegetarians' famous Vegan Food Party!  And, this is the FIRST EVER Solano County Vegan Food Party! =0D=0A=0D=0A=0D=0A=0D=0AThis is a wonderful opportunity for new and old friends to gather together and share their favorite homemade vegan foods.  We encourage you to "animal test" new vegan recipes on willing volunteers.  Please remember to bring a food dish that provides six generous servings, recipe/ingredients list, and your own place setting plus serving utensil.=0D=0A=0D=0A=0D=0A=0D=0AIf you're a new vegan or vegetarian and need help, please ask!  Recommended places more more recipes - BAVeg's Monthly Cooking Column | goveg.com =0D=0A=0D=0A=0D=0A=0D=0AIf you're new to Vegan Food Parties, please read the VFP Guidelines for more info.=0D=0A=0D=0A=0D=0A=0D=0AEveryone is welcome, both veg and non-veg, members and non-members, as well as kids.=0D=0A=0D=0A=0D=0A=0D=0ALocation: Private residence in Benicia.  Directions and cell phone will be sent to all who RSVP.  =0D=0A=0D=0AI only have email access through work, so directions will be sent on Thursday the 18th.  So even if you are not sure you can attend, please RSVP just in case.=0D=0A=0D=0A=0D=0A=0D=0AAfter we share our wonderful veg foods, those interested are welcome to stay for a viewing of either: =0D=0A=0D=0APeaceable Kingdom=0D=0A=0D=0AEmotional Lives of Farm Animals=0D=0A=0D=0ABehind the Mask=0D=0A=0D=0AVegetarian Cooking with Compassionate Cooks=0D=0A=0D=0A=0D=0A=0D=0APlease cast your votes when you RSVP – I own all 4=0D=0A=0D=0A=0D=0A=0D=0AThe movie will be viewed  in front of a cozy fire w/ homemade hot spice apple cider (wonderful for these cold winter nights).=0D=0A=0D=0AQuestions?  Please email me directly
DTSTART:20070120T170000
DTEND:20070120T170000
END:VEVENT
END:VCALENDAR