BEGIN:VCALENDAR
VERSION:1.0
PRODID:BAV Web Calendar
TZ:-08
BEGIN:VEVENT
SUMMARY:Happy Bamboo dinner - San Jose
DESCRIPTION;ENCODING=QUOTED-PRINTABLE: Please visit Bay Area Vegetarians event calendar for more information or updates on this and other vegetarian and animal rights events.=0D=0A=0D=0Ahttp://www.bayareaveg.org/events.php#1479 =0D=0A=0D=0AHost: Melissa=0D=0A=0D=0ANotes:=0D=0A=0D=0AAs most of you know, our beloved Bay Leaf Cafe has closed down :(=0D=0A=0D=0A=0D=0A=0D=0AI have enjoyed hosting the Bay Area Vegetarians' 2nd Tuesday of the month dinner throughout 2006 and though I am so sad that we won't be meeting at Bay Leaf, I would still like to continue the event. =0D=0A=0D=0ASo, I have chosen to continue the dinner at Happy Bamboo which is located right off the 85 freeway at Camden (at Branham) in San Jose. =0D=0A=0D=0AHappy Bamboo is a vegetarian/mostly vegan Vietnamese restaurant. They have the most amazing vegan drumsticks I have ever tasted. For more info on Happy Bamboo, click here=0D=0A=0D=0A=0D=0A=0D=0AThe dinner is open to both veg*ns and non-veg*ns, but please note, that if you will be sitting with the group, that only VEGAN food can be ordered. Happy Bamboo is about 90% vegan, so that will not be difficult. =0D=0A=0D=0A=0D=0A=0D=0AHappy Bamboo is a small restaurant so I will need to get an exact count of who will be attending. Please RSVP by 12 noon on the day of the dinner to insure seating with the group.  Walk-ins accommodated as space permits.
DTSTART:20070109T190000
DTEND:20070109T190000
END:VEVENT
END:VCALENDAR