BEGIN:VCALENDAR
VERSION:1.0
PRODID:BAV Web Calendar
TZ:-08
BEGIN:VEVENT
SUMMARY:KFC Cruelty Protest - Pacifica
DESCRIPTION;ENCODING=QUOTED-PRINTABLE: Please visit Bay Area Vegetarians event calendar for more information or updates on this and other vegetarian and animal rights events.=0D=0A=0D=0Ahttp://www.bayareaveg.org/events.php#1165 =0D=0A=0D=0AHost: Tammy=0D=0A=0D=0ANotes:=0D=0A=0D=0A2/26:  Our 2/26 event was postponed to 3/4 due to high winds and rain (since signs & leaflets are not waterproof).  New date is 3/4.=0D=0A=0D=0A------=0D=0A=0D=0AJoin Bay Area Vegetarians as we stick up for the chickens and protest the Colonel's secret ingredient (animal cruelty) at the Pacifica KFC, 4408 COAST HIGHWAY, PACIFICA CA 94044 Phone: 650-355-0920=0D=0A=0D=0ANew or experienced activists are welcome.  This is a low-key protest, all signs and leaflets provided.  We do this monthly, usually happening on the 4th weekend but check calendar to confirm (date is varying in the summer).  If you can't make this date but want to help at future ones, please email me.  For more info on this nationwide campaign to get KFC to mandate better conditions for the chickens slaughtered, click here=0D=0A=0D=0AFYI - rain cancels (hey, it was raining in June!).  Fog is okay :-)  If you're not sure whether the event is on or off, please feel free to check this event calendar page for last minute updates.=0D=0A=0D=0ARSVPs welcome so we can plan accordingly, but walk-ins are also great.  Please click here to RSVP on the evite, or to forward the evite to friends.=0D=0A=0D=0ASays PETA, "These demos are a VERY important part of our campaign to improve animal welfare standards that corporations require of their suppliers. Every time you attend one of these demos, you are helping to ensure that life improves for billions of animals all over the country." =0D=0A=0D=0AIf you can't make this demo, check the BAVEG event calendar for other monthly demos happening in Palo Alto, SF, San Jose, San Francisco, San Rafael, and Santa Cruz.
DTSTART:20060304T120000
DTEND:20060304T130000
END:VEVENT
END:VCALENDAR