BEGIN:VCALENDAR
VERSION:1.0
PRODID:BAV Web Calendar
TZ:-08
BEGIN:VEVENT
SUMMARY:KFC Cruelty Protest - SF
DESCRIPTION;ENCODING=QUOTED-PRINTABLE: Please visit Bay Area Vegetarians event calendar for more information or updates on this and other vegetarian and animal rights events.=0D=0A=0D=0Ahttp://www.bayareaveg.org/events.php#1155 =0D=0A=0D=0AHost: Thea=0D=0A=0D=0ANotes:=0D=0A=0D=0ANote time change for this month only=0D=0A=0D=0A----------------------------=0D=0A=0D=0AJoin Bay Area Vegetarians as we stick up for the chickens and protest the Colonel's secret ingredient -- animal cruelty at KFCs in San Francisco.=0D=0A=0D=0AWith eleven KFCs in San Francisco, we will be leafleting the different stores.  This month's demo will be at 4150 Geary Blvd (btwn 5th & 6th Ave) (if a location is not listed, please stay tuned for an announcement posted to the SFBAVEG/SFBAVEG-EVENTS list).=0D=0A=0D=0A=0D=0A=0D=0APlease join us for a yummy vegan lunch and letter writing afterwards at [TBD] (if a location is not listed, please stay tuned for an announcement posted to the SFBAVEG/SFBAVEG-EVENTS list).=0D=0A=0D=0A=0D=0A=0D=0ANew or experienced activists are welcome.  This is a monthly event, usually happening on the 3rd Saturday but check calendar to confirm.  If you can't make this date but want to help at future ones, please email me.  =0D=0A=0D=0A=0D=0A=0D=0APlease see BAV's schedule for other monthly KFC Cruelty demos in San Jose, Pacifica, & Palo Alto..=0D=0A=0D=0A=0D=0A=0D=0AFor more info on this nationwide campaign to get KFC to mandate better conditions for the chickens slaughtered, click here
DTSTART:20060218T113000
DTEND:20060218T124500
END:VEVENT
END:VCALENDAR