BEGIN:VCALENDAR
VERSION:1.0
PRODID:BAV Web Calendar
TZ:-08
BEGIN:VEVENT
SUMMARY:KFC Cruelty Protest - San Rafael
DESCRIPTION;ENCODING=QUOTED-PRINTABLE: Please visit Bay Area Vegetarians event calendar for more information or updates on this and other vegetarian and animal rights events.=0D=0A=0D=0Ahttp://www.bayareaveg.org/events.php#1152 =0D=0A=0D=0AHost: Hannah=0D=0A=0D=0ANotes:=0D=0A=0D=0AJoin Bay Area Vegetarians as we stick up for the chickens and protest the Colonel's secret ingredient (animal cruelty) at the San Rafael KFC at 555 Second Street.=0D=0A=0D=0ANew or experienced activists are welcome.  This is a low-key protest, all signs and leaflets provided.  We do this monthly, usually happening on the 1st Saturday but check calendar to confirm.  If you can't make this date but want to help at future ones, please email me.  =0D=0A=0D=0AFor more info on this nationwide campaign to get KFC to mandate better conditions for the chickens slaughtered, click here=0D=0A=0D=0AFYI, now that winter is here, rain cancels.  RSVPs welcome so we can plan accordingly, but walk-ins are fine!=0D=0A=0D=0AFrom Chris Overton, KFC campaign coordinator for PETA, "These demos are a VERY important part of our campaign to improve animal welfare standards that corporations require of their suppliers. Every time you attend one of these demos, you are helping to ensure that life improves for billions of animals all over the country." =0D=0A=0D=0AIf you can't make this demo, check the BAVEG monthly schedule for the cities/regular dates for KFC Cruelty protests in other cities ( http://bayareaveg.org/monthlyevents.htm ).
DTSTART:20060304T120000
DTEND:20060304T130000
END:VEVENT
END:VCALENDAR