BEGIN:VCALENDAR
VERSION:1.0
PRODID:BAV Web Calendar
TZ:-08
BEGIN:VEVENT
SUMMARY:Friday Food & Fellowship Dinner - SF
DESCRIPTION;ENCODING=QUOTED-PRINTABLE: Please visit Bay Area Vegetarians event calendar for more information or updates on this and other vegetarian and animal rights events.=0D=0A=0D=0Ahttp://www.bayareaveg.org/events.php#1147 =0D=0A=0D=0AHost: Tammy & Chris=0D=0A=0D=0ANotes:=0D=0A=0D=0AFor folks wanting to start the weekend with a Friday dinner relaxing over yummy vegan food with like-minded folks, then join Bay Area Vegetarians for a casual and relaxing dinner!  The San Francisco dinner is hosted by Tammy & Chris, co-founders of Bay Area Vegetarians.  =0D=0A=0D=0A=0D=0A=0D=0AWe will meet at 6 pm directly at Shangri-La Vegetarian Restaurant.  We'll sit at one of the large round tables in the back, to make sharing food and conversation easier.  Some of our favorite vegan dishes include the Pie Pa Tofu Balls, #40 (Vegetal Pork with Tofu), veggie chow mein, and their won ton soup.  I've tried won ton soup at many of the veggie Chinese restaurants, and the one at Shangri-La is the best!=0D=0A=0D=0A=0D=0A=0D=0ASo, if you would like to sit with the group, please use this evite to RSVP for dinner so we can plan accordingly.  RSVP deadline Thursday 5 pm Pacific time.  Walk-ins and tenative RSVPs accomodated as space permits.  Please use the evite to RSVP, and it will also send out an automatic reminder.
DTSTART:20060224T180000
DTEND:20060224T180000
END:VEVENT
END:VCALENDAR