BEGIN:VCALENDAR
VERSION:1.0
PRODID:BAV Web Calendar
TZ:-08
BEGIN:VEVENT
SUMMARY:Letter Writing Party - Berkeley
DESCRIPTION;ENCODING=QUOTED-PRINTABLE: Please visit Bay Area Vegetarians event calendar for more information or updates on this and other vegetarian and animal rights events.=0D=0A=0D=0Ahttp://www.bayareaveg.org/events.php#1121 =0D=0A=0D=0AHost: Sara=0D=0A=0D=0ANotes:=0D=0A=0D=0AShow your support for having an East Bay Letter Writing Party by attending and bringing your friends along.  This is a monthly event usually happening on the 3rd Tuesday of every month.=0D=0A=0D=0A=0D=0A=0D=0AWe will be writing letters to the editor, letters to state, county, and federal legislators and officials encouraging compassion to animals, etc.  We will be a voice for the voiceless with our personal, handwritten, high-impact letters.=0D=0A=0D=0A=0D=0A=0D=0AWe'll be meeting at vegan-friendly Fellini's, 1401 University Avenue.  We'll start with dinner at 6:30, then write letters at 7:30.  Fellini's has vegan pizza,=0D=0A=0D=0Apastas, salads and desserts.  (There's free parking in the back.)=0D=0A=0D=0A=0D=0A=0D=0ALook for our table with a "BAV" sign at the front of the restaurant.  Enjoy camaraderie and good food while influencing lawmakers on behalf of the animals!  New activists are encouraged to attend!=0D=0A=0D=0A=0D=0A=0D=0AIt's helpful if you can also bring:=0D=0A=0D=0A-pen and paper=0D=0A=0D=0A-envelopes=0D=0A=0D=0A-name of your State & Federal legislators (click here)=0D=0A=0D=0A-veg or animal rights topics to write on, or use the ones we provide.=0D=0A=0D=0APlease RSVP and we'll save you a seat. Hope to see you there!=0D=0A=0D=0ANote, if you can't make this LWP, we have other monthly LWPs in SF and Palo Alto.  See calendar for details.
DTSTART:20060221T183000
DTEND:20060221T183000
END:VEVENT
END:VCALENDAR