BEGIN:VCALENDAR
VERSION:1.0
PRODID:BAV Web Calendar
TZ:-08
BEGIN:VEVENT
SUMMARY:Marin Dinner - San Rafael
DESCRIPTION;ENCODING=QUOTED-PRINTABLE: Please visit Bay Area Vegetarians event calendar for more information or updates on this and other vegetarian and animal rights events.=0D=0A=0D=0Ahttp://www.bayareaveg.org/events.php#1111 =0D=0A=0D=0AHost: Alicia=0D=0A=0D=0ANotes:=0D=0A=0D=0APlease note change in date -- last Tuesday of Each Month beginning this month=0D=0A=0D=0AGreetings everyone!=0D=0A=0D=0AThis month we will revisit Bombay Garden, an amazing Indian restaurant on 4th street. Feel free to invite friends, but remember we will all be ordering vegan food.=0D=0A=0D=0APlease RSVP via evite.  If the evite link does not work, please click on host's name in event header above to RSVP via email (evite has been having problems lately)=0D=0A=0D=0AFor folks who WANT a regular social dinner in Marin, it's important that you also ATTEND and PARTICIPATE in these dinners!   Everyone is welcome, both veg and non-veg, but please note we'll only be ordering vegan foods.  If you'd like to suggest a location for a future dinner, please do so.=0D=0A=0D=0A=0D=0A=0D=0AWould be great to continue these monthly, or should it be alternating months or more vegan food parties (potlucks)?  If you're interested in hosting a Vegan Food Party, please contact Tammy via the website contact page.
DTSTART:20060228T190000
DTEND:20060228T203000
END:VEVENT
END:VCALENDAR