BEGIN:VCALENDAR
VERSION:1.0
PRODID:BAV Web Calendar
TZ:-08
BEGIN:VEVENT
SUMMARY:Letter Writing Party - Palo Alto 
DESCRIPTION;ENCODING=QUOTED-PRINTABLE: Please visit Bay Area Vegetarians event calendar for more information or updates on this and other vegetarian and animal rights events.=0D=0A=0D=0Ahttp://www.bayareaveg.org/events.php#1110 =0D=0A=0D=0AHost: Ben=0D=0A=0D=0ANotes:=0D=0A=0D=0AJoin Bay Area Vegetarians as we write letters to the editor, letters to state, county, and federal legislators and officials encouraging compassion to animals, etc.  We will be a voice for the voiceless with our personal, handwritten, high-impact letters. =0D=0A=0D=0ARobin, who started the Letter Writing Parties in Palo Alto, voices the sentiments of many who attend the letter writing events.  "When I'm at home and I read about an issue I feel strongly about, I'm not likely to get out some paper and begin writing a letter because I'm usually busy checking e-mails and doing other tasks. However, when I designate an hour or 2 per month just to write letters, I get a lot written and I get to reward myself with yummy ice cream and good company."=0D=0A=0D=0A=0D=0A=0D=0APlease show your support for this event and its new host, Ben, by attending and sharing your commitment and compassion to help animals.=0D=0A=0D=0A=0D=0A=0D=0ANew activists are encouraged to attend!=0D=0A=0D=0A=0D=0A=0D=0AIt's helpful if you can also bring:=0D=0A=0D=0A-pen and paper=0D=0A=0D=0A-envelopes=0D=0A=0D=0A-name of your State & Federal legislators (click here)=0D=0A=0D=0A-veg or animal rights topics to write on, or use the ones we provide.=0D=0A=0D=0AWe will be meeting at the BayLeaf Cafe, a charming and all vegan/organic cafe in downtown Palo Alto.  They now serve MaggieMudd's vegan ice cream and other yummy desserts.=0D=0A=0D=0APlease RSVP and we'll save you a seat. Hope to see you there!=0D=0A=0D=0AOh, and if you can't make this LWP, see event calendar for other LWPs in other parts of the Bay Area, like Berkeley and SF.
DTSTART:20060225T190000
DTEND:20060225T190000
END:VEVENT
END:VCALENDAR