BEGIN:VCALENDAR
VERSION:1.0
PRODID:BAV Web Calendar
TZ:-08
BEGIN:VEVENT
SUMMARY:Book Discussion:  Animal Liberation by Peter Singer - SF (Civic Center)
DESCRIPTION;ENCODING=QUOTED-PRINTABLE: Please visit Bay Area Vegetarians event calendar for more information or updates on this and other vegetarian and animal rights events.=0D=0A=0D=0Ahttp://www.bayareaveg.org/events.php#1022 =0D=0A=0D=0AHost: Compassionate Living Program=0D=0A=0D=0ANotes:=0D=0A=0D=0ABay Area Vegetarians' Compassionate Living program examines and presents information related to vegetarianism and living a compassionate lifestyle. =0D=0A=0D=0A=0D=0A=0D=0AThis month we will have an informal and supportive discussion about a classic book that many credit with spawning the animal rights movement - Animal Liberation by Peter Singer.  =0D=0A=0D=0APlease plan to arrive a few minutes early so we can start introductions and discussion promptly at 3 pm.  Please note - our discussion will be based on the book.  This is a serious topic, so please give yourself adequate time to read the material.=0D=0A=0D=0A=0D=0A=0D=0ABased on input from those attending, there may be a dinner following the discussion.=0D=0A=0D=0A=0D=0A=0D=0ALocation - SF Main Library, 100 Larkin Street, 3rd floor conference room.  =0D=0A=0D=0A=0D=0A=0D=0APlease RSVP via the evite and use the evite to invite others who may be interested.  Please note space is limited for this event.=0D=0A=0D=0A=0D=0A=0D=0AThanks your interest in this program; please help us get the word out - please use the evite to invite your friends!  The full 2006 Compassionate Living program schedule is also available here=0D=0A=0D=0A=0D=0A=0D=0ANote:  In Feb, May, Aug, and Nov, the Compassionate Living program is discussing 4 vegetarian / animal rights book with the BAVeg Book Club.  For the 2006 Book Club schedule, more information, or to share your input on upcoming book discussions, please visit the BAVEG Book Club forum
DTSTART:20060212T144500
DTEND:20060212T170000
END:VEVENT
END:VCALENDAR